BEGIN:VCALENDAR
VERSION:2.0
PRODID:-//PNE - ECPv6.13.2.1//NONSGML v1.0//EN
CALSCALE:GREGORIAN
METHOD:PUBLISH
X-ORIGINAL-URL:https://www.pne.ca
X-WR-CALDESC:Events for PNE
REFRESH-INTERVAL;VALUE=DURATION:PT1H
X-Robots-Tag:noindex
X-PUBLISHED-TTL:PT1H
BEGIN:VTIMEZONE
TZID:America/Vancouver
BEGIN:DAYLIGHT
TZOFFSETFROM:-0800
TZOFFSETTO:-0700
TZNAME:PDT
DTSTART:20250309T100000
END:DAYLIGHT
BEGIN:STANDARD
TZOFFSETFROM:-0700
TZOFFSETTO:-0800
TZNAME:PST
DTSTART:20251102T090000
END:STANDARD
END:VTIMEZONE
BEGIN:VEVENT
DTSTART;TZID=America/Vancouver:20250503T193000
DTEND;TZID=America/Vancouver:20250503T193000
DTSTAMP:20260422T022442
CREATED:20241118T180030Z
LAST-MODIFIED:20241122T190621Z
UID:10010108-1746300600-1746300600@www.pne.ca
SUMMARY:Denzel Curry – Mischievous South Tour
DESCRIPTION:Lineup: (subject to change)\nDenzel Curry\nKenny Mason\n454\nCLIP
URL:https://www.pne.ca/event/dc25/
LOCATION:PNE Forum\, 2901 E Hastings St\, Vancouver\, BC\, V5K 5J1\, Canada
CATEGORIES:Concerts and Events
ATTACH;FMTTYPE=image/png:https://www.pne.ca/files/uploads/2024/11/1080x1080-4.png
GEO:49.2825297;-123.0425183
X-APPLE-STRUCTURED-LOCATION;VALUE=URI;X-ADDRESS=PNE Forum 2901 E Hastings St Vancouver BC V5K 5J1 Canada;X-APPLE-RADIUS=500;X-TITLE=2901 E Hastings St:geo:-123.0425183,49.2825297
END:VEVENT
BEGIN:VEVENT
DTSTART;TZID=America/Vancouver:20250506T183000
DTEND;TZID=America/Vancouver:20250506T183000
DTSTAMP:20260422T022442
CREATED:20241203T150047Z
LAST-MODIFIED:20250411T200234Z
UID:10010141-1746556200-1746556200@www.pne.ca
SUMMARY:Spiritbox: Tsunami Sea North American Tour
DESCRIPTION:Support (subject to change):\nLoathe\nDying Wish\nPOOR SPORT
URL:https://www.pne.ca/event/sb25/
LOCATION:PNE Forum\, 2901 E Hastings St\, Vancouver\, BC\, V5K 5J1\, Canada
CATEGORIES:Concerts and Events
ATTACH;FMTTYPE=image/jpeg:https://www.pne.ca/files/uploads/2024/12/Static_Social-Instagram_1080x1080_Spiritboxl_2025_Regional_PNEForum_0506-1.jpg
GEO:49.2825297;-123.0425183
X-APPLE-STRUCTURED-LOCATION;VALUE=URI;X-ADDRESS=PNE Forum 2901 E Hastings St Vancouver BC V5K 5J1 Canada;X-APPLE-RADIUS=500;X-TITLE=2901 E Hastings St:geo:-123.0425183,49.2825297
END:VEVENT
BEGIN:VEVENT
DTSTART;TZID=America/Vancouver:20250517T160000
DTEND;TZID=America/Vancouver:20250517T220000
DTSTAMP:20260422T022442
CREATED:20241218T031523Z
LAST-MODIFIED:20250501T180305Z
UID:10010261-1747497600-1747519200@www.pne.ca
SUMMARY:Foundation v13.0: Open Radius
DESCRIPTION:VIP\n-Express Entry\n-Private Viewing Area\n-Private Bar\n-Private Washrooms \nHouse Guests\n-On-Stage Access (360 Experience)\n-Private Viewing Area\n-Express Entry\n-Private Bar\n-Private Washrooms
URL:https://www.pne.ca/event/f13/2025-05-17/
LOCATION:PNE Grounds\, 2901 E Hastings St\, Vancouver\, BC\, V5K 5J1\, Canada
CATEGORIES:Concerts and Events
ATTACH;FMTTYPE=image/png:https://www.pne.ca/files/uploads/2024/12/igsquare2000x2000.png
GEO:49.2825297;-123.0425183
X-APPLE-STRUCTURED-LOCATION;VALUE=URI;X-ADDRESS=PNE Grounds 2901 E Hastings St Vancouver BC V5K 5J1 Canada;X-APPLE-RADIUS=500;X-TITLE=2901 E Hastings St:geo:-123.0425183,49.2825297
END:VEVENT
BEGIN:VEVENT
DTSTART;TZID=America/Vancouver:20250518T160000
DTEND;TZID=America/Vancouver:20250518T220000
DTSTAMP:20260422T022442
CREATED:20241218T031523Z
LAST-MODIFIED:20250501T180305Z
UID:10010306-1747584000-1747605600@www.pne.ca
SUMMARY:Foundation v13.0: Open Radius
DESCRIPTION:VIP\n-Express Entry\n-Private Viewing Area\n-Private Bar\n-Private Washrooms \nHouse Guests\n-On-Stage Access (360 Experience)\n-Private Viewing Area\n-Express Entry\n-Private Bar\n-Private Washrooms
URL:https://www.pne.ca/event/f13/2025-05-18/
LOCATION:PNE Grounds\, 2901 E Hastings St\, Vancouver\, BC\, V5K 5J1\, Canada
CATEGORIES:Concerts and Events
ATTACH;FMTTYPE=image/png:https://www.pne.ca/files/uploads/2024/12/igsquare2000x2000.png
GEO:49.2825297;-123.0425183
X-APPLE-STRUCTURED-LOCATION;VALUE=URI;X-ADDRESS=PNE Grounds 2901 E Hastings St Vancouver BC V5K 5J1 Canada;X-APPLE-RADIUS=500;X-TITLE=2901 E Hastings St:geo:-123.0425183,49.2825297
END:VEVENT
BEGIN:VEVENT
DTSTART;TZID=America/Vancouver:20250524T203000
DTEND;TZID=America/Vancouver:20250524T230000
DTSTAMP:20260422T022442
CREATED:20241004T205610Z
LAST-MODIFIED:20250521T001555Z
UID:10010057-1748118600-1748127600@www.pne.ca
SUMMARY:GooGoosh live In Vancouver
DESCRIPTION:Presented by Buzzer Media \n  \nNote: The Pacific Coliseum does not have the facilities to provide wheelchair or accessible seating on the floor level of the venue.   Guest can purchase accessible and companion seating for some shows directly online or by connecting with Ticketleader Email:  info@ticketleader.ca  Phone: 604-252-3700.
URL:https://www.pne.ca/event/googoosh/
LOCATION:Pacific Coliseum\, 100 N Renfrew St\, Vancouver\, BC\, V5K 4W3\, Canada
CATEGORIES:Concerts and Events
ATTACH;FMTTYPE=image/jpeg:https://www.pne.ca/files/uploads/2024/10/qBxL48K6.jpeg
GEO:49.2825297;-123.0425183
X-APPLE-STRUCTURED-LOCATION;VALUE=URI;X-ADDRESS=Pacific Coliseum 100 N Renfrew St Vancouver BC V5K 4W3 Canada;X-APPLE-RADIUS=500;X-TITLE=100 N Renfrew St:geo:-123.0425183,49.2825297
END:VEVENT
END:VCALENDAR