BEGIN:VCALENDAR
VERSION:2.0
PRODID:-//PNE - ECPv6.13.2.1//NONSGML v1.0//EN
CALSCALE:GREGORIAN
METHOD:PUBLISH
X-WR-CALNAME:PNE
X-ORIGINAL-URL:https://www.pne.ca
X-WR-CALDESC:Events for PNE
REFRESH-INTERVAL;VALUE=DURATION:PT1H
X-Robots-Tag:noindex
X-PUBLISHED-TTL:PT1H
BEGIN:VTIMEZONE
TZID:America/Vancouver
BEGIN:DAYLIGHT
TZOFFSETFROM:-0800
TZOFFSETTO:-0700
TZNAME:PDT
DTSTART:20260308T100000
END:DAYLIGHT
BEGIN:STANDARD
TZOFFSETFROM:-0700
TZOFFSETTO:-0800
TZNAME:PST
DTSTART:20261101T090000
END:STANDARD
END:VTIMEZONE
BEGIN:VEVENT
DTSTART;TZID=America/Vancouver:20260117T100000
DTEND;TZID=America/Vancouver:20260117T200000
DTSTAMP:20260421T144742
CREATED:20260116T185853Z
LAST-MODIFIED:20260116T185958Z
UID:10011184-1768644000-1768680000@www.pne.ca
SUMMARY:Van-City Cheerleading Championships
DESCRIPTION:Western Canada’s Premier Cheer Competitions \nFor more information\, to register\, and buy tickets for the event\, please visit VAN CITY CHAMPIONSHIPS | New Era Events
URL:https://www.pne.ca/event/van-city-cheerleading-championships/2026-01-17/
LOCATION:PNE Forum\, 2901 E Hastings St\, Vancouver\, BC\, V5K 5J1\, Canada
CATEGORIES:Concerts and Events
ATTACH;FMTTYPE=image/png:https://www.pne.ca/files/uploads/2026/01/Screenshot-2026-01-16-105808.png
GEO:49.2825297;-123.0425183
X-APPLE-STRUCTURED-LOCATION;VALUE=URI;X-ADDRESS=PNE Forum 2901 E Hastings St Vancouver BC V5K 5J1 Canada;X-APPLE-RADIUS=500;X-TITLE=2901 E Hastings St:geo:-123.0425183,49.2825297
END:VEVENT
BEGIN:VEVENT
DTSTART;TZID=America/Vancouver:20260118T093000
DTEND;TZID=America/Vancouver:20260118T190000
DTSTAMP:20260421T144742
CREATED:20260116T185853Z
LAST-MODIFIED:20260116T185958Z
UID:10011187-1768728600-1768762800@www.pne.ca
SUMMARY:Van-City Cheerleading Championships
DESCRIPTION:Western Canada’s Premier Cheer Competitions \nFor more information\, to register\, and buy tickets for the event\, please visit VAN CITY CHAMPIONSHIPS | New Era Events
URL:https://www.pne.ca/event/van-city-cheerleading-championships/2026-01-18/
LOCATION:PNE Forum\, 2901 E Hastings St\, Vancouver\, BC\, V5K 5J1\, Canada
CATEGORIES:Concerts and Events
ATTACH;FMTTYPE=image/png:https://www.pne.ca/files/uploads/2026/01/Screenshot-2026-01-16-105808.png
GEO:49.2825297;-123.0425183
X-APPLE-STRUCTURED-LOCATION;VALUE=URI;X-ADDRESS=PNE Forum 2901 E Hastings St Vancouver BC V5K 5J1 Canada;X-APPLE-RADIUS=500;X-TITLE=2901 E Hastings St:geo:-123.0425183,49.2825297
END:VEVENT
BEGIN:VEVENT
DTSTART;TZID=America/Vancouver:20260122T190000
DTEND;TZID=America/Vancouver:20260122T220000
DTSTAMP:20260421T144742
CREATED:20251006T191052Z
LAST-MODIFIED:20260421T170536Z
UID:10010895-1769108400-1769119200@www.pne.ca
SUMMARY:VANCOUVER GOLDENEYES
DESCRIPTION:The PWHL announced the official 2025-26 regular-season schedule\, set to begin on Friday\, Nov. 21. The PWHL’s third season will feature a total of 120 games for the first time in league history – up from 90 games last season and 72 games in the inaugural season – with all teams playing 30 regular-season matchups for the second straight year. \n  \nVancouver Goldeneyes Schedule\n  \n\n\n\nDate\nDoors Open\nPuck Drop\nVisiting Team\n\n\nFri\, Nov 21\n5:30 pm\n7:00 pm\n\n\nSeattle\n\n\nSat\, Dec 6\n10:30 am\n12:00 pm\n\n\nNew York\n\n\nTue\, Dec 16\n5:30 pm\n7:00 pm\n\n\nOttawa\n\n\nSat\, Dec 20\n10:30 am\n12:00 pm\n\n\nMontréal\n\n\nThu\, Jan 22\n5:30 pm\n7:00 pm\n\n\nToronto\n\n\nSun\, Mar 1\n11:30 am\n1:00 pm\n\n\nToronto\n\n\nTue\, Mar 10\n5:30 pm\n7:00 pm\n\n\nBoston\n\n\nSat\, Mar 14\n10:30 am\n12:00 pm\n\n\nOttawa\n\n\nWed\, Mar 18\n5:30 pm\n7:00 pm\n\n\nNew York\n\n\nSat\, Mar 21\n10:30 am\n12:00 pm\n\n\nMinnesota\n\n\nTue\, Apr 14\n5:30 pm\n7:00 pm\n\n\nSeattle\n\n\nTue\, Apr 21\n5:30 pm\n7:00 pm\n\n\nMontréal\n\n\nSat\, Apr 25\n2:30 pm\n4:00 pm\n\n\nMinnesota\n\n\n\n  \n*Max 8 tickets per purchase
URL:https://www.pne.ca/event/pwhl-vancouver-schedule/2026-01-22/
LOCATION:Pacific Coliseum\, 100 N Renfrew St\, Vancouver\, BC\, V5K 4W3\, Canada
CATEGORIES:Concerts and Events
ATTACH;FMTTYPE=image/png:https://www.pne.ca/files/uploads/2025/11/NEW-VAN-MobileWallet-720x464-1.png
GEO:49.2825297;-123.0425183
X-APPLE-STRUCTURED-LOCATION;VALUE=URI;X-ADDRESS=Pacific Coliseum 100 N Renfrew St Vancouver BC V5K 4W3 Canada;X-APPLE-RADIUS=500;X-TITLE=100 N Renfrew St:geo:-123.0425183,49.2825297
END:VEVENT
BEGIN:VEVENT
DTSTART;TZID=America/Vancouver:20260128T190000
DTEND;TZID=America/Vancouver:20260128T220000
DTSTAMP:20260421T144742
CREATED:20250908T140006Z
LAST-MODIFIED:20251118T180217Z
UID:10010784-1769626800-1769637600@www.pne.ca
SUMMARY:The Harlem Globetrotters 100 Year Tour
DESCRIPTION:THE HARLEM GLOBETROTTERS 100 YEAR TOUR  \n100 Years of Thrills. 100 Years of Laughs. 100 Years of Joy. \nThis is a once-in-a-century celebration of 100 Years of Jaw-Dropping “No Way!” moves\, 100 Years of “Wow!” and 100 Years of Heart-Pounding Thrills! The Harlem Globetrotters are coming to your city with their most LEGENDARY TOUR EVER. From gravity-defying dunks to game-changing tricks\, experience the team that redefined basketball!  This is history you can feel and a celebration of 100 years of over-the-top FUN with all-new surprises like the Golden Basketball by Spalding®. This is fan celebration from the moment you arrive with epic new pre-game magic\, unforgettable post-game interactions\, and the most fan-fueled experience in sports. This is your only chance to be part of The Harlem Globetrotters 100 Year Tour. \nDon’t miss your chance to be a part of the LEGACY. \nA warning to any fans with light sensitivity that strobing effects will be used during light shows within the Harlem Globetrotters game.
URL:https://www.pne.ca/event/the-harlem-globetrotters-100-year-tour/
LOCATION:Pacific Coliseum\, 100 N Renfrew St\, Vancouver\, BC\, V5K 4W3\, Canada
CATEGORIES:Concerts and Events,Family Events
ATTACH;FMTTYPE=image/png:https://www.pne.ca/files/uploads/2025/09/1920x1080_HGI26_Vancouver-BC.png
GEO:49.2825297;-123.0425183
X-APPLE-STRUCTURED-LOCATION;VALUE=URI;X-ADDRESS=Pacific Coliseum 100 N Renfrew St Vancouver BC V5K 4W3 Canada;X-APPLE-RADIUS=500;X-TITLE=100 N Renfrew St:geo:-123.0425183,49.2825297
END:VEVENT
END:VCALENDAR