BEGIN:VCALENDAR
VERSION:2.0
PRODID:-//PNE - ECPv6.13.2.1//NONSGML v1.0//EN
CALSCALE:GREGORIAN
METHOD:PUBLISH
X-ORIGINAL-URL:https://www.pne.ca
X-WR-CALDESC:Events for PNE
REFRESH-INTERVAL;VALUE=DURATION:PT1H
X-Robots-Tag:noindex
X-PUBLISHED-TTL:PT1H
BEGIN:VTIMEZONE
TZID:America/Vancouver
BEGIN:DAYLIGHT
TZOFFSETFROM:-0800
TZOFFSETTO:-0700
TZNAME:PDT
DTSTART:20260308T100000
END:DAYLIGHT
BEGIN:STANDARD
TZOFFSETFROM:-0700
TZOFFSETTO:-0800
TZNAME:PST
DTSTART:20261101T090000
END:STANDARD
END:VTIMEZONE
BEGIN:VEVENT
DTSTART;TZID=America/Vancouver:20260507T190000
DTEND;TZID=America/Vancouver:20260507T210000
DTSTAMP:20260421T102816
CREATED:20260417T203904Z
LAST-MODIFIED:20260417T220955Z
UID:10011346-1778180400-1778187600@www.pne.ca
SUMMARY:Neighbourhood Focus Group
DESCRIPTION:You Asked\, We Responded! Beginning in 2025\, the PNE Community Engagement team will begin hosting two Open Houses and two Neighbourhood Focus Groups annually to strengthen our dialogue with neighbours and better understand what matters most to you. \nOur third Neighbourhood Focus Group takes place on May 7\, and we want you at the table! \nSession Details \nDate: Thursday\, May 7\nTime: 7:00pm – 9:00pm\nLocation: PNE Hastings Room \nAgenda \nDetails\, including the agenda and topic\, will be updated here soon. \nHave ideas for future group topics? We’d love to hear from you! Email us at communityengagement@pne.ca \nSpots are limited — register today to secure your seat!
URL:https://www.pne.ca/event/neighbourhood-focus-group-0507/
LOCATION:Hastings Room at the PNE\, 2901 E Hastings St\, Vancouver\, BC\, V5K 2A3\, Canada
CATEGORIES:Concerts and Events
ATTACH;FMTTYPE=image/jpeg:https://www.pne.ca/files/uploads/2026/04/pexels-davidmcbee-1546166-scaled-1.jpg
GEO:49.28281;-123.0425183
X-APPLE-STRUCTURED-LOCATION;VALUE=URI;X-ADDRESS=Hastings Room at the PNE 2901 E Hastings St Vancouver BC V5K 2A3 Canada;X-APPLE-RADIUS=500;X-TITLE=2901 E Hastings St:geo:-123.0425183,49.28281
END:VEVENT
BEGIN:VEVENT
DTSTART;TZID=America/Vancouver:20260514T203000
DTEND;TZID=America/Vancouver:20260514T203000
DTSTAMP:20260421T102816
CREATED:20260210T200054Z
LAST-MODIFIED:20260401T173123Z
UID:10011223-1778790600-1778790600@www.pne.ca
SUMMARY:Baby Keem - The Ca$ino Tour
DESCRIPTION:Baby Keem is one of the most exciting voices in modern music. His RIAA-certified Platinum debut album\, The Melodic Blue\, debuted at No. 5 on the Billboard 200 and earned universal acclaim. \nThe album’s lead single\, “family ties” featuring Kendrick Lamar\, went 5x Platinum and won Best Rap Performance at the 64th GRAMMY Awards. Keem joined Kendrick Lamar on the Big Steppers Tour\, delivering standout performances worldwide\, later captured in Live From Paris on Amazon Prime Video. \nKeem has continued to push boundaries with The Melodic Blue (Deluxe)\, a full visual film release\, and collaborations with Lil Uzi Vert\, Don Toliver\, and PinkPantheress. In 2024\, he reunited with Kendrick Lamar on “The Hillbillies\,” earning another GRAMMY nomination.
URL:https://www.pne.ca/event/baby-keem/
LOCATION:PNE Forum\, 2901 E Hastings St\, Vancouver\, BC\, V5K 5J1\, Canada
CATEGORIES:Concerts and Events
ATTACH;FMTTYPE=image/jpeg:https://www.pne.ca/files/uploads/2026/02/Static_Venue_1080x1080_BabyKeem_2026_Regional_PNEForum_0514.jpg
GEO:49.2825297;-123.0425183
X-APPLE-STRUCTURED-LOCATION;VALUE=URI;X-ADDRESS=PNE Forum 2901 E Hastings St Vancouver BC V5K 5J1 Canada;X-APPLE-RADIUS=500;X-TITLE=2901 E Hastings St:geo:-123.0425183,49.2825297
END:VEVENT
BEGIN:VEVENT
DTSTART;TZID=America/Vancouver:20260516T160000
DTEND;TZID=America/Vancouver:20260516T160000
DTSTAMP:20260421T102816
CREATED:20260122T030012Z
LAST-MODIFIED:20260401T174325Z
UID:10011190-1778947200-1778947200@www.pne.ca
SUMMARY:Foundation: Open Radius 2026
DESCRIPTION:VIP (19+) \n-Express Entry\n-Private Viewing Area\n-Private Bar\n-Private Washrooms \nHouse Guest (19+)\n-On-Stage Access (360 Experience)\n-Private Viewing Area\n-Express Entry\n-Private Bar\n-Private Washrooms
URL:https://www.pne.ca/event/foundation-open-radius-2026/2026-05-16/
LOCATION:PNE Grounds\, 2901 E Hastings St\, Vancouver\, BC\, V5K 5J1\, Canada
CATEGORIES:Concerts and Events
ATTACH;FMTTYPE=image/png:https://www.pne.ca/files/uploads/2026/01/1080x1080.png
GEO:49.2825297;-123.0425183
X-APPLE-STRUCTURED-LOCATION;VALUE=URI;X-ADDRESS=PNE Grounds 2901 E Hastings St Vancouver BC V5K 5J1 Canada;X-APPLE-RADIUS=500;X-TITLE=2901 E Hastings St:geo:-123.0425183,49.2825297
END:VEVENT
BEGIN:VEVENT
DTSTART;TZID=America/Vancouver:20260517T160000
DTEND;TZID=America/Vancouver:20260517T160000
DTSTAMP:20260421T102816
CREATED:20260122T030012Z
LAST-MODIFIED:20260401T174325Z
UID:10011193-1779033600-1779033600@www.pne.ca
SUMMARY:Foundation: Open Radius 2026
DESCRIPTION:VIP (19+) \n-Express Entry\n-Private Viewing Area\n-Private Bar\n-Private Washrooms \nHouse Guest (19+)\n-On-Stage Access (360 Experience)\n-Private Viewing Area\n-Express Entry\n-Private Bar\n-Private Washrooms
URL:https://www.pne.ca/event/foundation-open-radius-2026/2026-05-17/
LOCATION:PNE Grounds\, 2901 E Hastings St\, Vancouver\, BC\, V5K 5J1\, Canada
CATEGORIES:Concerts and Events
ATTACH;FMTTYPE=image/png:https://www.pne.ca/files/uploads/2026/01/1080x1080.png
GEO:49.2825297;-123.0425183
X-APPLE-STRUCTURED-LOCATION;VALUE=URI;X-ADDRESS=PNE Grounds 2901 E Hastings St Vancouver BC V5K 5J1 Canada;X-APPLE-RADIUS=500;X-TITLE=2901 E Hastings St:geo:-123.0425183,49.2825297
END:VEVENT
END:VCALENDAR