BEGIN:VCALENDAR
VERSION:2.0
PRODID:-//PNE - ECPv6.13.2.1//NONSGML v1.0//EN
CALSCALE:GREGORIAN
METHOD:PUBLISH
X-ORIGINAL-URL:https://www.pne.ca
X-WR-CALDESC:Events for PNE
REFRESH-INTERVAL;VALUE=DURATION:PT1H
X-Robots-Tag:noindex
X-PUBLISHED-TTL:PT1H
BEGIN:VTIMEZONE
TZID:America/Vancouver
BEGIN:DAYLIGHT
TZOFFSETFROM:-0800
TZOFFSETTO:-0700
TZNAME:PDT
DTSTART:20260308T100000
END:DAYLIGHT
BEGIN:STANDARD
TZOFFSETFROM:-0700
TZOFFSETTO:-0800
TZNAME:PST
DTSTART:20261101T090000
END:STANDARD
END:VTIMEZONE
BEGIN:VEVENT
DTSTART;TZID=America/Vancouver:20260901T200000
DTEND;TZID=America/Vancouver:20260901T200000
DTSTAMP:20260419T075141
CREATED:20260415T133055Z
LAST-MODIFIED:20260416T214543Z
UID:10011268-1788292800-1788292800@www.pne.ca
SUMMARY:Train | 2026 Summer Night Concerts
DESCRIPTION:Since their formation in 1994\, multi-GRAMMY Award-winning\, diamond-selling band Train has sold more than 10 million albums and 30 million tracks worldwide\, amassing over six billion global streams.   \nTrain’s climb to the top began in San Francisco\, as the original 5-member band tenaciously built a loyal hometown following\, leading up to their debut self-titled album released by Columbia in 1998. The tumbling wordplay of “Meet Virginia” gave them their first unlikely radio hit\, and 2001’s Drops of Jupiter broke them to multi-platinum status. Known for their critically acclaimed catalogue of chart-topping hits including #1 best-selling smash “Hey\, Soul Sister\, double-GRAMMY-winning hit “Drops of Jupiter\,” 5x platinum-certified anthem “Drive By\,” Train has had 14 songs on Billboard’s Hot 100 Chart and 13 albums on the Billboard 200 Albums Chart\, six of which reached the Top 10\, including Drops of Jupiter (2001)\, My Private Nation (2003)\, California 37 (2012)\, Bulletproof Picasso (2014)\,For Me\, It’s You (2016)\, and a girl a bottle a boat (2017).   \nFor over three decades\, Train has been captivating audiences across the globe with their signature blend of rock and pop\, infectious melodies\, and heartfelt lyrics. With an extraordinary career that includes three GRAMMY Awards\, two Billboard Music Awards\, multiple diamond/platinum/gold citations\, and dozens of other honors\, Train continues to reach new milestones\, boasting two tracks\, “Hey\, Soul Sister” and “Drops of Jupiter\,” that have reached RIAA Diamond status and surpassed one billion streams on Spotify.  \nhttps://www.savemesanfrancisco.com/  \n  \nInterested in a Box\, Suite\, or Skybox for this show? Contact PNE Group Sales at groupsales@pne.ca to learn more.
URL:https://www.pne.ca/event/train-snc26/
LOCATION:Freedom Mobile Arch\, 2901 E Hastings St\, Vancouver\, British Columbia\, V5K 5J1\, Canada
CATEGORIES:Concerts and Events
ATTACH;FMTTYPE=image/jpeg:https://www.pne.ca/files/uploads/2026/03/1080x1080-URL.jpg
END:VEVENT
BEGIN:VEVENT
DTSTART;TZID=America/Vancouver:20260902T200000
DTEND;TZID=America/Vancouver:20260902T200000
DTSTAMP:20260419T075141
CREATED:20260415T133031Z
LAST-MODIFIED:20260416T214614Z
UID:10011271-1788379200-1788379200@www.pne.ca
SUMMARY:Barenaked Ladies | 2026 Summer Night Concerts
DESCRIPTION:Over the course of 38 years\, the beloved quartet has sold over 15 million records worldwide and built up an arsenal of hits such as “If I Had $1\,000\,000\,” “One Week\,” “Pinch Me\,” and “The Big Bang Theory Theme.”  Widely acknowledged as one of the best live acts on the planet\, BNL has hosted a cruise\, had their own Ben & Jerry’s ice cream flavor\, and participated in the first-ever “space-to-earth musical collaboration” with astronaut Chris Hadfield. To date\, BNL has amassed eight JUNO Awards\, garnered two GRAMMY nominations and was inducted into the Canadian Music Hall of Fame. BNL’s 18th studio album\, “In Flight”\, was released in 2023 and features 14 brand new studio recordings. In Spring 2025\, they followed it with “In Flight – Carry On”\, a digital-only companion EP offering reimagined acoustic versions of fan favorites from the album. Both are available everywhere you stream music.    \nhttps://www.barenakedladies.com/  \n  \nInterested in a Box\, Suite\, or Skybox for this show? Contact PNE Group Sales at groupsales@pne.ca to learn more.
URL:https://www.pne.ca/event/barenaked-ladies-snc26/
LOCATION:Freedom Mobile Arch\, 2901 E Hastings St\, Vancouver\, British Columbia\, V5K 5J1\, Canada
CATEGORIES:Concerts and Events
ATTACH;FMTTYPE=image/png:https://www.pne.ca/files/uploads/2026/03/SNC26-IAAs-Barenaked-Ladies1080x1080-URL-1.png
END:VEVENT
BEGIN:VEVENT
DTSTART;TZID=America/Vancouver:20260903T190000
DTEND;TZID=America/Vancouver:20260903T190000
DTSTAMP:20260419T075141
CREATED:20260309T170059Z
LAST-MODIFIED:20260416T214653Z
UID:10011286-1788462000-1788462000@www.pne.ca
SUMMARY:"Weird Al” Yankovic: Bigger & Weirder 2026 Tour
DESCRIPTION:“WEIRD AL” YANKOVIC \nTHE BIGGER & WEIRDER 2026 TOUR \n  \nWeird Al brings his legendary full-production multimedia comedy rock show back to the concert stage with the BIGGER & WEIRDER 2026 Tour\, playing his iconic hits as well as some never-performed-live-before fan favorites.  Al’s long-time band is joined by four additional players to create a super-sized concert experience. \n“Weird Al” Yankovic is the biggest-selling comedy recording artist in history.  A 5-time Grammy Award winner\, he is best known for his parodies of the biggest musical artists over the last 4 decades\, including Madonna\, Michael Jackson\, Taylor Swift\, Queen\, U2 and Lady Gaga\, all with their personal blessings.  His many hits include “Amish Paradise\,” “Eat It\,” “Like a Surgeon\,” “Smells Like Nirvana\,” “Word Crimes\,” and the platinum-selling “White & Nerdy.”  His last album Mandatory Fun is the only comedy album in history to debut at #1 on the Billboard Top 200.  Yankovic’s live shows have entertained audiences across the globe for generations\, including appearances at such iconic venues as Radio City Music Hall\, The Hollywood Bowl\, Red Rocks\, Carnegie Hall\, Wolf Trap\, The Kennedy Center and Madison Square Garden.  In 2022\, Yankovic produced and co-wrote the Emmy-winning biopic WEIRD: The Al Yankovic Story\, starring Daniel Radcliffe in the title role. \n  \nVIP Meet & Greet and Backstage Tour Packages are available for this show. Click here for more information on VIP packages. \n  \nSpecial Guest: PUDDLES PITY PARTY \nPuddles Pity Party\, the 7-foot sad clown whose golden voice is “comparable to any Grammy winner” (Los Angeles Times)\, has amassed over 900K YouTube subscribers and performed sold out shows around the globe including San Francisco’s Palace of Fine Arts\, London’s Soho Theatre and a residency at Caesars Palace in Las Vegas. He has performed on stage with such legends as Eric Idle\, Nick Offerman\, Jack Black\, Maynard James Keenan and Primus. Puddles’ one-of-a-kind “textured voice laced with melancholy” (NY Times) has been hailed as “operatic” (Boston Globe) and his show both “life-affirming” (Herald Scotland) and “hysterically funny” (LA Weekly). \n  \nInterested in a Box\, Suite\, or Skybox for this show? Contact PNE Group Sales at groupsales@pne.ca to learn more.
URL:https://www.pne.ca/event/weird-al-yankovic/
LOCATION:Freedom Mobile Arch\, 2901 E Hastings St\, Vancouver\, British Columbia\, V5K 5J1\, Canada
CATEGORIES:Concerts and Events
ATTACH;FMTTYPE=image/jpeg:https://www.pne.ca/files/uploads/2026/03/Static_Social-Instagram_1080x1080_WeirdAl_2026_Regional_FreedomMobileArch_0903.jpg
END:VEVENT
BEGIN:VEVENT
DTSTART;TZID=America/Vancouver:20260904T200000
DTEND;TZID=America/Vancouver:20260904T200000
DTSTAMP:20260419T075141
CREATED:20260416T140027Z
LAST-MODIFIED:20260416T214727Z
UID:10011274-1788552000-1788552000@www.pne.ca
SUMMARY:Earth\, Wind & Fire | 2026 Summer Night Concerts
DESCRIPTION:Legendary music group and one of the best-selling artists of all time\, Earth\, Wind & Fire will perform at the PNE for the first time!  \nFormed in 1969 by Maurice White\, Earth\, Wind & Fire have become a global music institution\, blending soul\, funk\, R&B\, and pop into a signature sound that has stood the test of time. With over 100 million albums sold and eight number-one hits\, their catalogue includes timeless classics like “September\,” “Let’s Groove\,” and “Reasons.” \nWith an impressive nine GRAMMY® Awards\, including one for Lifetime Achievement\, and an induction into the Rock and Roll Hall of Fame\, Earth\, Wind & Fire continue to captivate audiences around the world\, bringing their uplifting\, high-energy performances and enduring legacy to generations of fans. \nhttps://www.earthwindandfire.com/  \n  \nInterested in a Box\, Suite\, or Skybox for this show? Contact PNE Group Sales at groupsales@pne.ca to learn more.
URL:https://www.pne.ca/event/earth-wind-fire-snc26/
LOCATION:Freedom Mobile Arch\, 2901 E Hastings St\, Vancouver\, British Columbia\, V5K 5J1\, Canada
CATEGORIES:Concerts and Events
ATTACH;FMTTYPE=image/png:https://www.pne.ca/files/uploads/2026/03/SNC26-IAAs-Earth-Wind-Fire1080x1080-URL-1.png
END:VEVENT
BEGIN:VEVENT
DTSTART;TZID=America/Vancouver:20260905T200000
DTEND;TZID=America/Vancouver:20260905T200000
DTSTAMP:20260419T075141
CREATED:20260416T140011Z
LAST-MODIFIED:20260416T214810Z
UID:10011277-1788638400-1788638400@www.pne.ca
SUMMARY:Pierce The Veil | 2026 Summer Night Concerts
DESCRIPTION:Since forming in San Diego in 2006\, Pierce The Veil have grown from underground post-hardcore heroes into one of modern rock’s most influential and electrifying bands. Known for their explosive live shows and genre-blurring mix of emo\, punk\, metal\, and pop\, the trio – Vic Fuentes\, Tony Perry\, and Jaime Preciado – have released a string of acclaimed albums\, sold millions of records\, and earned a fiercely devoted global fanbase. They’ve headlined stages around the world\, shared bills with icons like Blink-182\, Bring Me The Horizon\, and Rise Against\, and racked up over 2 billion streams across their catalog. Now\, in the midst of their “I Can’t Hear You Tour” which has garnered sell-outs at\, among many others\, Madison Square Garden\, Red Rocks and multiple nights at the Kia Forum\, Pierce The Veil are taking their high-energy set to fans across the world\, proving nearly two decades in that their momentum shows no signs of slowing.  \nhttps://ptvmerch.com/  \nhttps://www.facebook.com/PierceTheVeil/  \n  \nInterested in a Box\, Suite\, or Skybox for this show? Contact PNE Group Sales at groupsales@pne.ca to learn more.
URL:https://www.pne.ca/event/pierce-the-veil-snc26/
LOCATION:Freedom Mobile Arch\, 2901 E Hastings St\, Vancouver\, British Columbia\, V5K 5J1\, Canada
CATEGORIES:Concerts and Events
ATTACH;FMTTYPE=image/jpeg:https://www.pne.ca/files/uploads/2026/03/1080x1080-URL-1.jpg
END:VEVENT
BEGIN:VEVENT
DTSTART;TZID=America/Vancouver:20260906T200000
DTEND;TZID=America/Vancouver:20260906T200000
DTSTAMP:20260419T075141
CREATED:20260416T140010Z
LAST-MODIFIED:20260417T175443Z
UID:10011280-1788724800-1788724800@www.pne.ca
SUMMARY:Sarah McLachlan | 2026 Summer Night Concerts
DESCRIPTION:Sarah McLachlan is one of the most celebrated singer songwriters in entertainment with over 40 million albums sold worldwide. She has received three Grammy Awards and thirteen Juno Awards over her career and has been inducted into the Canadian Music Hall of Fame and the Canadian Songwriter’s Hall of Fame.  \nSarah’s music embodies the art of songwriting on its most personal level\, and her indelible vocals resonate with people everywhere. Her songs have had a profound influence; “Angel\,” “Building A Mystery\,” “Fallen\,” “I Will Remember You\,” “Adia\,” “Sweet Surrender\,” “World On Fire\,” “Possession\,” and countless others are an inspiration to music lovers around the globe.  \nIn addition to her personal artistic efforts\, Sarah founded the Lilith Fair tour\, which showcased female musicians and brought over two million people together during its three-year run.  Lilith Fair raised over $7 million for local and national women’s charities and was the most successful all-female music event\, launching the careers of numerous performers.  \nFollowing Lilith Fair\, Sarah was awarded the Elizabeth Cady Stanton Visionary Award for furthering the careers of women in music.  She is an Officer of the Order of Canada\, was appointed to the Order of British Columbia\, and is the recipient of the Governor General’s Performing Arts Awards for Lifetime Achievement.  \nIn 2002\, she established the not-for-profit Sarah McLachlan School of Music\, providing free music education and mentorship to underserved children and youth facing barriers to access. From an early age\, music provided Sarah with the tools she needed to navigate the challenges she faced in her life\, so she recognizes how important it is for every child to have those same opportunities.    \nIn September 2025 Sarah released two notable projects; the first was her tenth studio album Better Broken. The album is a soul-searching reflection on the fortitude that comes from weathering life’s constant storms with a selection of songs that speak an uncompromising but radically illuminating truth about the state of the human condition.   \nThe second was the feature documentary Lilith Fair: Building a Mystery\, which tells the untold story of the groundbreaking music festival started in the late 1990s\, in opposition to systematic industry barriers that limited women from playing together on a concert bill and getting back-to-back airplay on the radio. The documentary premiered at the Toronto International Film Festival and is available to stream on CBC Gem in Canada and Hulu for the rest of the world.  \nhttps://www.sarahmclachlan.com/  \n  \nInterested in a Box\, Suite\, or Skybox for this show? Contact PNE Group Sales at groupsales@pne.ca to learn more.
URL:https://www.pne.ca/event/sarah-mclachlan-snc26/
LOCATION:Freedom Mobile Arch\, 2901 E Hastings St\, Vancouver\, British Columbia\, V5K 5J1\, Canada
CATEGORIES:Concerts and Events
ATTACH;FMTTYPE=image/png:https://www.pne.ca/files/uploads/2026/03/SNC26-IAAs-Sarah-McLachlan1080x1080-URL-1.png
END:VEVENT
BEGIN:VEVENT
DTSTART;TZID=America/Vancouver:20260907T200000
DTEND;TZID=America/Vancouver:20260907T200000
DTSTAMP:20260419T075141
CREATED:20260416T140043Z
LAST-MODIFIED:20260416T214911Z
UID:10011283-1788811200-1788811200@www.pne.ca
SUMMARY:Boy George & Culture Club | 2026 Summer Night Concerts
DESCRIPTION:Since their inception in 1981\, Culture Club have sold more than 150 million records worldwide\, recognized as a Grammy Award winning UK institution with a stream of classic hits including ‘Do You Really Want to Hurt Me’\, ‘Karma Chameleon’\, ‘Church Of The Poison Mind’\, ‘Victims’\, ‘It’s A Miracle’ and ‘The War Song’. The group are fronted by singer/songwriter Boy George\, universally loved as one of music’s most iconic artists\, with Roy Hay on guitar/keyboard and Mikey Craig on bass. As the first multi-racial band with an openly gay front man\, Culture Club set many records and established themselves as icons of British musical history and popular culture.  \nBoy George & Culture Club recently performed a series of exclusive UK outdoor shows as part of Heritage Live Concert Series\, which included a very special date at Kenwood House on Hampstead Heath in July 2022. In 2024 Culture Club performed a very successful arena tour\, large scale stage production of their first two albums\, Kissing To Be Clever & Colour By Numbers\, performing both albums in full.  \nhttps://boygeorgeandcultureclub.net/  \n  \nInterested in a Box\, Suite\, or Skybox for this show? Contact PNE Group Sales at groupsales@pne.ca to learn more.
URL:https://www.pne.ca/event/boy-george-culture-club-snc26/
LOCATION:Freedom Mobile Arch\, 2901 E Hastings St\, Vancouver\, British Columbia\, V5K 5J1\, Canada
CATEGORIES:Concerts and Events
ATTACH;FMTTYPE=image/png:https://www.pne.ca/files/uploads/2026/03/SNC26-IAAs-CULTURE-CLUB1080x1080-URL-1.png
END:VEVENT
BEGIN:VEVENT
DTSTART;TZID=America/Vancouver:20260919T200000
DTEND;TZID=America/Vancouver:20260919T200000
DTSTAMP:20260419T075141
CREATED:20260401T170020Z
LAST-MODIFIED:20260401T175551Z
UID:10011322-1789848000-1789848000@www.pne.ca
SUMMARY:Johnny Blue Skies & the Dark Clouds - Mutiny for the Masses 2026 Tour
DESCRIPTION:The last time Johnny Blue Skies & the Dark Clouds hit the road\, they delivered an “intensely physical marathon performance that created a can’t-miss musical happening” (GQ)\, and the question was asked: are they “the greatest live act in music right now?” With longer sets and greasier grooves\, Johnny Blue Skies & the Dark Clouds will once again answer. No opening acts\, just the band rocking as hard and relentlessly as possible for every minute possible.  \nMutiny After Midnight is out now on vinyl\, CD and cassette via High Top Mountain/Atlantic Outpost. It is also available as a digital download – exclusively on iTunes in a “full album for purchase only” format – with an expanded track list featuring Johnny Blue Skies & the Dark Clouds’ take on Eddie Murphy’s “Party All The Time.”
URL:https://www.pne.ca/event/johnny-blue-skies-the-dark-clouds-mutiny-for-the-masses-2026-tour/
LOCATION:Pacific Coliseum\, 100 N Renfrew St\, Vancouver\, BC\, V5K 4W3\, Canada
CATEGORIES:Concerts and Events
ATTACH;FMTTYPE=image/jpeg:https://www.pne.ca/files/uploads/2026/04/2026_JohnnyBlueSkies_Venue-Digital-Web_1084x1084_PacificColiseum_0919.jpg
GEO:49.2825297;-123.0425183
X-APPLE-STRUCTURED-LOCATION;VALUE=URI;X-ADDRESS=Pacific Coliseum 100 N Renfrew St Vancouver BC V5K 4W3 Canada;X-APPLE-RADIUS=500;X-TITLE=100 N Renfrew St:geo:-123.0425183,49.2825297
END:VEVENT
BEGIN:VEVENT
DTSTART;TZID=America/Vancouver:20260926T190000
DTEND;TZID=America/Vancouver:20260926T190000
DTSTAMP:20260419T075141
CREATED:20260304T180013Z
LAST-MODIFIED:20260416T214001Z
UID:10011235-1790449200-1790449200@www.pne.ca
SUMMARY:Zeds Dead: Journey Of A Lifetime Tour
DESCRIPTION:Zeds Dead has partnered with PLUS1 so that $1 per ticket goes to supporting organizations working for equity\, access\, and dignity for all. www.plus1.org (-> www.google.com) \nOne of the most successful independent acts in today’s global dance music scene\, Zeds Dead is a pioneering\, JUNO-Award-nominated electronic duo hailed as “trailblazers of the modern North American bass scene” (DJ Mag). Formed in 2009 in Toronto\, Canada\, by producers/DJs Dylan “DC” Mamid and Zachary “Hooks” Rapp-Rovan\, Zeds Dead have continually pushed the boundaries of electronic music culture via their ever-evolving sound and curatorial vision. Their extensive discography– which includes multiple breakout singles\, EPs\, and remixes and their genre-defying debut album\, Northern Lights — has earned them hundreds of millions of cross-platform streams and has notched them dozens of Top 20 hits across the Billboard charts. Today\, Zeds Dead continue to push electronic music forward via their innovative sonic style as well as their trendsetting Deadbeats Records\, one of the leading indie labels in dance music that has since become its own lifestyle brand and live events powerhouse. \n  \nInterested in a Box\, Suite\, or Skybox for this show? Contact PNE Group Sales at groupsales@pne.ca to learn more.
URL:https://www.pne.ca/event/zeds-dead-journey-of-a-lifetime-tour/
LOCATION:Freedom Mobile Arch\, 2901 E Hastings St\, Vancouver\, British Columbia\, V5K 5J1\, Canada
CATEGORIES:Concerts and Events
ATTACH;FMTTYPE=image/png:https://www.pne.ca/files/uploads/2026/03/1084x1084.png
END:VEVENT
BEGIN:VEVENT
DTSTART;TZID=America/Vancouver:20261002T200000
DTEND;TZID=America/Vancouver:20261002T200000
DTSTAMP:20260419T075141
CREATED:20260324T183003Z
LAST-MODIFIED:20260401T175149Z
UID:10011304-1790971200-1790971200@www.pne.ca
SUMMARY:JUNGLE – World Tour 2026
DESCRIPTION:** Tickets are valid only for the original purchaser and are non-transferable **\nThis concert is a Face Value Exchange Tour \n  \nSunshine\, the new album from much-lauded British band Jungle\, is set for release on August 14. In support of the album\, Jungle will embark on a global headline tour with stops across North America\, the U.K. and Europe this fall. \nThis release follows the band’s critically acclaimed 2023 LP Volcano\, called “unstoppable” and a “timeless classic” by NPR. Volcano saw the band receive widespread praise and tour the world in its wake\, as well as the runaway success of Platinum single “Back On 74\,” which took the world by storm upon release. \nJungle\, whose live performances were praised as a “perfect…come-as-you-are party” by Variety\, will look to bring their signature show to an ever-wider audience\, having played for over 190\,000 people on their previous global tour in 2023 and 2024. \nJungle was founded by Josh Lloyd-Watson and Tom McFarland\, who met at the age of 10 in West London’s Shepherd’s Bush. They began making music together at the beginning of 2013\, choosing to put the aesthetic emphasis on the music’s surrounding artwork and videos rather than on their own identities. The production and songwriting duo has since expanded\, welcoming vocalist and producer Lydia Kitto to the group as a permanent member in 2023. \nSupport:  \nRIO KOSTA
URL:https://www.pne.ca/event/jungle-world-tour-2026/
LOCATION:Pacific Coliseum\, 100 N Renfrew St\, Vancouver\, BC\, V5K 4W3\, Canada
CATEGORIES:Concerts and Events
ATTACH;FMTTYPE=image/jpeg:https://www.pne.ca/files/uploads/2026/03/1002-Vancouver-Jungle-1084x1084-1.jpg
GEO:49.2825297;-123.0425183
X-APPLE-STRUCTURED-LOCATION;VALUE=URI;X-ADDRESS=Pacific Coliseum 100 N Renfrew St Vancouver BC V5K 4W3 Canada;X-APPLE-RADIUS=500;X-TITLE=100 N Renfrew St:geo:-123.0425183,49.2825297
END:VEVENT
BEGIN:VEVENT
DTSTART;TZID=America/Vancouver:20261008T190000
DTEND;TZID=America/Vancouver:20261008T190000
DTSTAMP:20260419T075141
CREATED:20250915T161708Z
LAST-MODIFIED:20260401T175240Z
UID:10010874-1791486000-1791486000@www.pne.ca
SUMMARY:Sabaton: Legends on Tour
DESCRIPTION:In the more than two decades since the band’s launch\, Sabaton has headlined major festivals\, sold-out arena concerts worldwide\, and gained a legion of loyal fans by carving out a reputation for being one of the hardest working bands in the business. \n\nSabaton refuses to be slotted into a genre. Fans need only know them as Sabaton\, the heavy metal band that sings of real-life wars and the people who played a part in them; true stories more fantastic than any fiction. \nSupport: \nPop Evil \nWings of Steel
URL:https://www.pne.ca/event/sabaton-legends-on-tour/
LOCATION:PNE Forum\, 2901 E Hastings St\, Vancouver\, BC\, V5K 5J1\, Canada
CATEGORIES:Concerts and Events
ATTACH;FMTTYPE=image/jpeg:https://www.pne.ca/files/uploads/2025/09/Static_Venue_1080x1080_Sabaton_2026_Regional_PNEForum_0420-1.jpg
GEO:49.2825297;-123.0425183
X-APPLE-STRUCTURED-LOCATION;VALUE=URI;X-ADDRESS=PNE Forum 2901 E Hastings St Vancouver BC V5K 5J1 Canada;X-APPLE-RADIUS=500;X-TITLE=2901 E Hastings St:geo:-123.0425183,49.2825297
END:VEVENT
END:VCALENDAR