BEGIN:VCALENDAR
VERSION:2.0
PRODID:-//PNE - ECPv6.13.2.1//NONSGML v1.0//EN
CALSCALE:GREGORIAN
METHOD:PUBLISH
X-ORIGINAL-URL:https://www.pne.ca
X-WR-CALDESC:Events for PNE
REFRESH-INTERVAL;VALUE=DURATION:PT1H
X-Robots-Tag:noindex
X-PUBLISHED-TTL:PT1H
BEGIN:VTIMEZONE
TZID:America/Vancouver
BEGIN:DAYLIGHT
TZOFFSETFROM:-0800
TZOFFSETTO:-0700
TZNAME:PDT
DTSTART:20260308T100000
END:DAYLIGHT
BEGIN:STANDARD
TZOFFSETFROM:-0700
TZOFFSETTO:-0800
TZNAME:PST
DTSTART:20261101T090000
END:STANDARD
END:VTIMEZONE
BEGIN:VEVENT
DTSTART;TZID=America/Vancouver:20260421T190000
DTEND;TZID=America/Vancouver:20260421T220000
DTSTAMP:20260419T083930
CREATED:20251006T191052Z
LAST-MODIFIED:20260326T173323Z
UID:10010916-1776798000-1776808800@www.pne.ca
SUMMARY:VANCOUVER GOLDENEYES
DESCRIPTION:The PWHL announced the official 2025-26 regular-season schedule\, set to begin on Friday\, Nov. 21. The PWHL’s third season will feature a total of 120 games for the first time in league history – up from 90 games last season and 72 games in the inaugural season – with all teams playing 30 regular-season matchups for the second straight year. \n  \nVancouver Goldeneyes Schedule\n  \n\n\n\nDate\nDoors Open\nPuck Drop\nVisiting Team\n\n\nFri\, Nov 21\n5:30 pm\n7:00 pm\n\n\nSeattle\n\n\nSat\, Dec 6\n10:30 am\n12:00 pm\n\n\nNew York\n\n\nTue\, Dec 16\n5:30 pm\n7:00 pm\n\n\nOttawa\n\n\nSat\, Dec 20\n10:30 am\n12:00 pm\n\n\nMontréal\n\n\nThu\, Jan 22\n5:30 pm\n7:00 pm\n\n\nToronto\n\n\nSun\, Mar 1\n11:30 am\n1:00 pm\n\n\nToronto\n\n\nTue\, Mar 10\n5:30 pm\n7:00 pm\n\n\nBoston\n\n\nSat\, Mar 14\n10:30 am\n12:00 pm\n\n\nOttawa\n\n\nWed\, Mar 18\n5:30 pm\n7:00 pm\n\n\nNew York\n\n\nSat\, Mar 21\n10:30 am\n12:00 pm\n\n\nMinnesota\n\n\nTue\, Apr 14\n5:30 pm\n7:00 pm\n\n\nSeattle\n\n\nTue\, Apr 21\n5:30 pm\n7:00 pm\n\n\nMontréal\n\n\nSat\, Apr 25\nTBD\nTBD\n\n\nMinnesota\n\n\n\n  \n*Max 8 tickets per purchase
URL:https://www.pne.ca/event/pwhl-vancouver-schedule/2026-04-21/
LOCATION:Pacific Coliseum\, 100 N Renfrew St\, Vancouver\, BC\, V5K 4W3\, Canada
CATEGORIES:Concerts and Events
ATTACH;FMTTYPE=image/png:https://www.pne.ca/files/uploads/2025/11/NEW-VAN-MobileWallet-720x464-1.png
GEO:49.2825297;-123.0425183
X-APPLE-STRUCTURED-LOCATION;VALUE=URI;X-ADDRESS=Pacific Coliseum 100 N Renfrew St Vancouver BC V5K 4W3 Canada;X-APPLE-RADIUS=500;X-TITLE=100 N Renfrew St:geo:-123.0425183,49.2825297
END:VEVENT
BEGIN:VEVENT
DTSTART;TZID=America/Vancouver:20260425T180000
DTEND;TZID=America/Vancouver:20260425T180000
DTSTAMP:20260419T083930
CREATED:20251020T160037Z
LAST-MODIFIED:20260326T235555Z
UID:10010982-1777140000-1777140000@www.pne.ca
SUMMARY:Electric Callboy: Tanzneid World Tour
DESCRIPTION:Special Guests: Polaris \nSupport: \n\nScene Queen\n\n      Following a string of international sold-out shows and viral success\, ELECTRIC CALLBOY are once again set to raise the bar. Known for their genre-defying fusion of metalcore and electronic rave culture\, the band is now officially rebranding the previously announced UK and European dates under the TANZNEID WORLD TOUR banner—uniting every show as part of one global movement of music\, madness\, and mayhem. \n\n“With TANZNEID\, we will bring a brand new live show to fans all around the world\,” the band shares.“This tour is about celebrating the connection we have with our fans across continents and bringing the full Electric Callboy experience to as many places as we can. Every night will be wild\, loud\, and unforgettable.”
URL:https://www.pne.ca/event/electric-callboy/
LOCATION:PNE Forum\, 2901 E Hastings St\, Vancouver\, BC\, V5K 5J1\, Canada
CATEGORIES:Concerts and Events
ATTACH;FMTTYPE=image/jpeg:https://www.pne.ca/files/uploads/2025/10/Static_Social-Instagram_1080x1080_ElectricCallboy_2026_Regional_PNEForum_0425.jpg
GEO:49.2825297;-123.0425183
X-APPLE-STRUCTURED-LOCATION;VALUE=URI;X-ADDRESS=PNE Forum 2901 E Hastings St Vancouver BC V5K 5J1 Canada;X-APPLE-RADIUS=500;X-TITLE=2901 E Hastings St:geo:-123.0425183,49.2825297
END:VEVENT
END:VCALENDAR