BEGIN:VCALENDAR
VERSION:2.0
PRODID:-//PNE - ECPv6.13.2.1//NONSGML v1.0//EN
CALSCALE:GREGORIAN
METHOD:PUBLISH
X-ORIGINAL-URL:https://www.pne.ca
X-WR-CALDESC:Events for PNE
REFRESH-INTERVAL;VALUE=DURATION:PT1H
X-Robots-Tag:noindex
X-PUBLISHED-TTL:PT1H
BEGIN:VTIMEZONE
TZID:America/Vancouver
BEGIN:DAYLIGHT
TZOFFSETFROM:-0800
TZOFFSETTO:-0700
TZNAME:PDT
DTSTART:20260308T100000
END:DAYLIGHT
BEGIN:STANDARD
TZOFFSETFROM:-0700
TZOFFSETTO:-0800
TZNAME:PST
DTSTART:20261101T090000
END:STANDARD
END:VTIMEZONE
BEGIN:VEVENT
DTSTART;TZID=America/Vancouver:20260528T123000
DTEND;TZID=America/Vancouver:20260528T123000
DTSTAMP:20260423T134321
CREATED:20260423T170028Z
LAST-MODIFIED:20260423T000636Z
UID:10011325-1779971400-1779971400@www.pne.ca
SUMMARY:TREE OF LIFE CIRCUS
DESCRIPTION:In the heart of Circa\, a circus community rallies to protect their homeland and the Tree of Life\, a symbol of hope and prosperity. Despite a faction seeking to exploit its magic\, the residents unite\, using dazzling ground and aerial acts to foil their plans and ensure the tree’s safety.
URL:https://www.pne.ca/event/tree-of-life-circus/2026-05-28/1/
LOCATION:Garden Auditorium at the PNE\, 2901 East Hastings Street\, Vancouver\, BC\, V5K5J1\, Canada
CATEGORIES:Concerts and Events
ATTACH;FMTTYPE=image/png:https://www.pne.ca/files/uploads/2026/04/Untitled-1-4.png
GEO:49.2832804;-123.0379173
X-APPLE-STRUCTURED-LOCATION;VALUE=URI;X-ADDRESS=Garden Auditorium at the PNE 2901 East Hastings Street Vancouver BC V5K5J1 Canada;X-APPLE-RADIUS=500;X-TITLE=2901 East Hastings Street:geo:-123.0379173,49.2832804
END:VEVENT
BEGIN:VEVENT
DTSTART;TZID=America/Vancouver:20260528T190000
DTEND;TZID=America/Vancouver:20260528T190000
DTSTAMP:20260423T134321
CREATED:20260423T170028Z
LAST-MODIFIED:20260423T000636Z
UID:10011328-1779994800-1779994800@www.pne.ca
SUMMARY:TREE OF LIFE CIRCUS
DESCRIPTION:In the heart of Circa\, a circus community rallies to protect their homeland and the Tree of Life\, a symbol of hope and prosperity. Despite a faction seeking to exploit its magic\, the residents unite\, using dazzling ground and aerial acts to foil their plans and ensure the tree’s safety.
URL:https://www.pne.ca/event/tree-of-life-circus/2026-05-28/2/
LOCATION:Garden Auditorium at the PNE\, 2901 East Hastings Street\, Vancouver\, BC\, V5K5J1\, Canada
CATEGORIES:Concerts and Events
ATTACH;FMTTYPE=image/png:https://www.pne.ca/files/uploads/2026/04/Untitled-1-4.png
GEO:49.2832804;-123.0379173
X-APPLE-STRUCTURED-LOCATION;VALUE=URI;X-ADDRESS=Garden Auditorium at the PNE 2901 East Hastings Street Vancouver BC V5K5J1 Canada;X-APPLE-RADIUS=500;X-TITLE=2901 East Hastings Street:geo:-123.0379173,49.2832804
END:VEVENT
BEGIN:VEVENT
DTSTART;TZID=America/Vancouver:20260529T123000
DTEND;TZID=America/Vancouver:20260529T123000
DTSTAMP:20260423T134321
CREATED:20260423T170028Z
LAST-MODIFIED:20260423T000636Z
UID:10011331-1780057800-1780057800@www.pne.ca
SUMMARY:TREE OF LIFE CIRCUS
DESCRIPTION:In the heart of Circa\, a circus community rallies to protect their homeland and the Tree of Life\, a symbol of hope and prosperity. Despite a faction seeking to exploit its magic\, the residents unite\, using dazzling ground and aerial acts to foil their plans and ensure the tree’s safety.
URL:https://www.pne.ca/event/tree-of-life-circus/2026-05-29/1/
LOCATION:Garden Auditorium at the PNE\, 2901 East Hastings Street\, Vancouver\, BC\, V5K5J1\, Canada
CATEGORIES:Concerts and Events
ATTACH;FMTTYPE=image/png:https://www.pne.ca/files/uploads/2026/04/Untitled-1-4.png
GEO:49.2832804;-123.0379173
X-APPLE-STRUCTURED-LOCATION;VALUE=URI;X-ADDRESS=Garden Auditorium at the PNE 2901 East Hastings Street Vancouver BC V5K5J1 Canada;X-APPLE-RADIUS=500;X-TITLE=2901 East Hastings Street:geo:-123.0379173,49.2832804
END:VEVENT
BEGIN:VEVENT
DTSTART;TZID=America/Vancouver:20260529T190000
DTEND;TZID=America/Vancouver:20260529T190000
DTSTAMP:20260423T134321
CREATED:20260423T170028Z
LAST-MODIFIED:20260423T000636Z
UID:10011334-1780081200-1780081200@www.pne.ca
SUMMARY:TREE OF LIFE CIRCUS
DESCRIPTION:In the heart of Circa\, a circus community rallies to protect their homeland and the Tree of Life\, a symbol of hope and prosperity. Despite a faction seeking to exploit its magic\, the residents unite\, using dazzling ground and aerial acts to foil their plans and ensure the tree’s safety.
URL:https://www.pne.ca/event/tree-of-life-circus/2026-05-29/2/
LOCATION:Garden Auditorium at the PNE\, 2901 East Hastings Street\, Vancouver\, BC\, V5K5J1\, Canada
CATEGORIES:Concerts and Events
ATTACH;FMTTYPE=image/png:https://www.pne.ca/files/uploads/2026/04/Untitled-1-4.png
GEO:49.2832804;-123.0379173
X-APPLE-STRUCTURED-LOCATION;VALUE=URI;X-ADDRESS=Garden Auditorium at the PNE 2901 East Hastings Street Vancouver BC V5K5J1 Canada;X-APPLE-RADIUS=500;X-TITLE=2901 East Hastings Street:geo:-123.0379173,49.2832804
END:VEVENT
BEGIN:VEVENT
DTSTART;TZID=America/Vancouver:20260530T123000
DTEND;TZID=America/Vancouver:20260530T123000
DTSTAMP:20260423T134321
CREATED:20260423T170028Z
LAST-MODIFIED:20260423T000636Z
UID:10011337-1780144200-1780144200@www.pne.ca
SUMMARY:TREE OF LIFE CIRCUS
DESCRIPTION:In the heart of Circa\, a circus community rallies to protect their homeland and the Tree of Life\, a symbol of hope and prosperity. Despite a faction seeking to exploit its magic\, the residents unite\, using dazzling ground and aerial acts to foil their plans and ensure the tree’s safety.
URL:https://www.pne.ca/event/tree-of-life-circus/2026-05-30/1/
LOCATION:Garden Auditorium at the PNE\, 2901 East Hastings Street\, Vancouver\, BC\, V5K5J1\, Canada
CATEGORIES:Concerts and Events
ATTACH;FMTTYPE=image/png:https://www.pne.ca/files/uploads/2026/04/Untitled-1-4.png
GEO:49.2832804;-123.0379173
X-APPLE-STRUCTURED-LOCATION;VALUE=URI;X-ADDRESS=Garden Auditorium at the PNE 2901 East Hastings Street Vancouver BC V5K5J1 Canada;X-APPLE-RADIUS=500;X-TITLE=2901 East Hastings Street:geo:-123.0379173,49.2832804
END:VEVENT
BEGIN:VEVENT
DTSTART;TZID=America/Vancouver:20260530T190000
DTEND;TZID=America/Vancouver:20260530T190000
DTSTAMP:20260423T134321
CREATED:20260423T170028Z
LAST-MODIFIED:20260423T000636Z
UID:10011340-1780167600-1780167600@www.pne.ca
SUMMARY:TREE OF LIFE CIRCUS
DESCRIPTION:In the heart of Circa\, a circus community rallies to protect their homeland and the Tree of Life\, a symbol of hope and prosperity. Despite a faction seeking to exploit its magic\, the residents unite\, using dazzling ground and aerial acts to foil their plans and ensure the tree’s safety.
URL:https://www.pne.ca/event/tree-of-life-circus/2026-05-30/2/
LOCATION:Garden Auditorium at the PNE\, 2901 East Hastings Street\, Vancouver\, BC\, V5K5J1\, Canada
CATEGORIES:Concerts and Events
ATTACH;FMTTYPE=image/png:https://www.pne.ca/files/uploads/2026/04/Untitled-1-4.png
GEO:49.2832804;-123.0379173
X-APPLE-STRUCTURED-LOCATION;VALUE=URI;X-ADDRESS=Garden Auditorium at the PNE 2901 East Hastings Street Vancouver BC V5K5J1 Canada;X-APPLE-RADIUS=500;X-TITLE=2901 East Hastings Street:geo:-123.0379173,49.2832804
END:VEVENT
BEGIN:VEVENT
DTSTART;TZID=America/Vancouver:20260531T123000
DTEND;TZID=America/Vancouver:20260531T123000
DTSTAMP:20260423T134321
CREATED:20260423T170028Z
LAST-MODIFIED:20260423T000636Z
UID:10011343-1780230600-1780230600@www.pne.ca
SUMMARY:TREE OF LIFE CIRCUS
DESCRIPTION:In the heart of Circa\, a circus community rallies to protect their homeland and the Tree of Life\, a symbol of hope and prosperity. Despite a faction seeking to exploit its magic\, the residents unite\, using dazzling ground and aerial acts to foil their plans and ensure the tree’s safety.
URL:https://www.pne.ca/event/tree-of-life-circus/2026-05-31/1/
LOCATION:Garden Auditorium at the PNE\, 2901 East Hastings Street\, Vancouver\, BC\, V5K5J1\, Canada
CATEGORIES:Concerts and Events
ATTACH;FMTTYPE=image/png:https://www.pne.ca/files/uploads/2026/04/Untitled-1-4.png
GEO:49.2832804;-123.0379173
X-APPLE-STRUCTURED-LOCATION;VALUE=URI;X-ADDRESS=Garden Auditorium at the PNE 2901 East Hastings Street Vancouver BC V5K5J1 Canada;X-APPLE-RADIUS=500;X-TITLE=2901 East Hastings Street:geo:-123.0379173,49.2832804
END:VEVENT
BEGIN:VEVENT
DTSTART;TZID=America/Vancouver:20260531T190000
DTEND;TZID=America/Vancouver:20260531T190000
DTSTAMP:20260423T134321
CREATED:20260423T170028Z
LAST-MODIFIED:20260423T000636Z
UID:10011355-1780254000-1780254000@www.pne.ca
SUMMARY:TREE OF LIFE CIRCUS
DESCRIPTION:In the heart of Circa\, a circus community rallies to protect their homeland and the Tree of Life\, a symbol of hope and prosperity. Despite a faction seeking to exploit its magic\, the residents unite\, using dazzling ground and aerial acts to foil their plans and ensure the tree’s safety.
URL:https://www.pne.ca/event/tree-of-life-circus/2026-05-31/2/
LOCATION:Garden Auditorium at the PNE\, 2901 East Hastings Street\, Vancouver\, BC\, V5K5J1\, Canada
CATEGORIES:Concerts and Events
ATTACH;FMTTYPE=image/png:https://www.pne.ca/files/uploads/2026/04/Untitled-1-4.png
GEO:49.2832804;-123.0379173
X-APPLE-STRUCTURED-LOCATION;VALUE=URI;X-ADDRESS=Garden Auditorium at the PNE 2901 East Hastings Street Vancouver BC V5K5J1 Canada;X-APPLE-RADIUS=500;X-TITLE=2901 East Hastings Street:geo:-123.0379173,49.2832804
END:VEVENT
END:VCALENDAR