BEGIN:VCALENDAR
VERSION:2.0
PRODID:-//PNE - ECPv6.13.2.1//NONSGML v1.0//EN
CALSCALE:GREGORIAN
METHOD:PUBLISH
X-ORIGINAL-URL:https://www.pne.ca
X-WR-CALDESC:Events for PNE
REFRESH-INTERVAL;VALUE=DURATION:PT1H
X-Robots-Tag:noindex
X-PUBLISHED-TTL:PT1H
BEGIN:VTIMEZONE
TZID:America/Vancouver
BEGIN:DAYLIGHT
TZOFFSETFROM:-0800
TZOFFSETTO:-0700
TZNAME:PDT
DTSTART:20260308T100000
END:DAYLIGHT
BEGIN:STANDARD
TZOFFSETFROM:-0700
TZOFFSETTO:-0800
TZNAME:PST
DTSTART:20261101T090000
END:STANDARD
END:VTIMEZONE
BEGIN:VEVENT
DTSTART;TZID=America/Vancouver:20260425T160000
DTEND;TZID=America/Vancouver:20260425T160000
DTSTAMP:20260422T195421
CREATED:20251006T191052Z
LAST-MODIFIED:20260421T170536Z
UID:10011349-1777132800-1777132800@www.pne.ca
SUMMARY:VANCOUVER GOLDENEYES
DESCRIPTION:The PWHL announced the official 2025-26 regular-season schedule\, set to begin on Friday\, Nov. 21. The PWHL’s third season will feature a total of 120 games for the first time in league history – up from 90 games last season and 72 games in the inaugural season – with all teams playing 30 regular-season matchups for the second straight year. \n  \nVancouver Goldeneyes Schedule\n  \n\n\n\nDate\nDoors Open\nPuck Drop\nVisiting Team\n\n\nFri\, Nov 21\n5:30 pm\n7:00 pm\n\n\nSeattle\n\n\nSat\, Dec 6\n10:30 am\n12:00 pm\n\n\nNew York\n\n\nTue\, Dec 16\n5:30 pm\n7:00 pm\n\n\nOttawa\n\n\nSat\, Dec 20\n10:30 am\n12:00 pm\n\n\nMontréal\n\n\nThu\, Jan 22\n5:30 pm\n7:00 pm\n\n\nToronto\n\n\nSun\, Mar 1\n11:30 am\n1:00 pm\n\n\nToronto\n\n\nTue\, Mar 10\n5:30 pm\n7:00 pm\n\n\nBoston\n\n\nSat\, Mar 14\n10:30 am\n12:00 pm\n\n\nOttawa\n\n\nWed\, Mar 18\n5:30 pm\n7:00 pm\n\n\nNew York\n\n\nSat\, Mar 21\n10:30 am\n12:00 pm\n\n\nMinnesota\n\n\nTue\, Apr 14\n5:30 pm\n7:00 pm\n\n\nSeattle\n\n\nTue\, Apr 21\n5:30 pm\n7:00 pm\n\n\nMontréal\n\n\nSat\, Apr 25\n2:30 pm\n4:00 pm\n\n\nMinnesota\n\n\n\n  \n*Max 8 tickets per purchase
URL:https://www.pne.ca/event/pwhl-vancouver-schedule/2026-04-25/
LOCATION:Pacific Coliseum\, 100 N Renfrew St\, Vancouver\, BC\, V5K 4W3\, Canada
CATEGORIES:Concerts and Events
ATTACH;FMTTYPE=image/png:https://www.pne.ca/files/uploads/2025/11/NEW-VAN-MobileWallet-720x464-1.png
GEO:49.2825297;-123.0425183
X-APPLE-STRUCTURED-LOCATION;VALUE=URI;X-ADDRESS=Pacific Coliseum 100 N Renfrew St Vancouver BC V5K 4W3 Canada;X-APPLE-RADIUS=500;X-TITLE=100 N Renfrew St:geo:-123.0425183,49.2825297
END:VEVENT
BEGIN:VEVENT
DTSTART;TZID=America/Vancouver:20260530T190000
DTEND;TZID=America/Vancouver:20260530T190000
DTSTAMP:20260422T195421
CREATED:20260421T225038Z
LAST-MODIFIED:20260421T225038Z
UID:10011352-1780167600-1780167600@www.pne.ca
SUMMARY:TARSEM JASSAR - WORLD IS YOURS TOUR CANADA 2026
DESCRIPTION:After 4 years\, Tarsem Jassar returns to Canada — bigger than ever. INFIN8 Planners proudly presents the World Is Yours Tour 2026 (Canada)\, kicking off in Vancouver and expanding across the country. \nKnown for his powerful music and storytelling\, Tarsem Jassar has also made a strong mark in cinema with films like Mastaney\, Guru Nanak Jahaz\, and the highly anticipated Rabb Da Radio 3 — the third installment of the blockbuster Rabb Da Radio series. \nThis tour is more than just a concert; it’s a full-scale experience bringing together music\, culture\, and cinematic legacy on one stage. \nBe part of the moment. Witness it live.
URL:https://www.pne.ca/event/tarsem-jassar-world-is-yours-tour-canada-2026/
LOCATION:Pacific Coliseum\, 100 N Renfrew St\, Vancouver\, BC\, V5K 4W3\, Canada
CATEGORIES:Concerts and Events
ATTACH;FMTTYPE=image/jpeg:https://www.pne.ca/files/uploads/2026/04/vancouver-1080.jpg
GEO:49.2825297;-123.0425183
X-APPLE-STRUCTURED-LOCATION;VALUE=URI;X-ADDRESS=Pacific Coliseum 100 N Renfrew St Vancouver BC V5K 4W3 Canada;X-APPLE-RADIUS=500;X-TITLE=100 N Renfrew St:geo:-123.0425183,49.2825297
END:VEVENT
BEGIN:VEVENT
DTSTART;TZID=America/Vancouver:20260603T190000
DTEND;TZID=America/Vancouver:20260603T190000
DTSTAMP:20260422T195421
CREATED:20251001T120529Z
LAST-MODIFIED:20260401T174433Z
UID:10010880-1780513200-1780513200@www.pne.ca
SUMMARY:Louis Tomlinson - How Did We Get Here? World Tour
DESCRIPTION:Support – The Aces \nWith the release of his latest single Lemonade\, and the announcement of his third studio album How Did I Get Here?\, internationally acclaimed artist Louis Tomlinson has revealed plans for a 2026 world arena tour!\n\nLouis Tomlinson is one of today’s most in-demand live performers\, and he’s starting his tour right here in Vancouver! Don’t miss the chance to see him live at the Pacific Coliseum.
URL:https://www.pne.ca/event/louis-tomlinson-how-did-we-get-here-world-tour/
LOCATION:Pacific Coliseum\, 100 N Renfrew St\, Vancouver\, BC\, V5K 4W3\, Canada
CATEGORIES:Concerts and Events
ATTACH;FMTTYPE=image/jpeg:https://www.pne.ca/files/uploads/2025/10/0603-Vancouver-LouisTomlinson-1200x1200-1.jpg
GEO:49.2825297;-123.0425183
X-APPLE-STRUCTURED-LOCATION;VALUE=URI;X-ADDRESS=Pacific Coliseum 100 N Renfrew St Vancouver BC V5K 4W3 Canada;X-APPLE-RADIUS=500;X-TITLE=100 N Renfrew St:geo:-123.0425183,49.2825297
END:VEVENT
BEGIN:VEVENT
DTSTART;TZID=America/Vancouver:20260801T200000
DTEND;TZID=America/Vancouver:20260801T200000
DTSTAMP:20260422T195421
CREATED:20260206T194105Z
LAST-MODIFIED:20260401T174555Z
UID:10011220-1785614400-1785614400@www.pne.ca
SUMMARY:Ammy Virk
DESCRIPTION:Ammy Virk is a leading Punjabi singer and actor known for his  blockbuster songs\, and electrifying live performances. \nWith numerous hits and award-winning films\, he continues to captivate audiences worldwide with his passion\, energy\, and authenticity on stage. \nAmmy Virk Live is not just a concert—it’s a celebration of Punjabi music\, culture\, and pure entertainment.
URL:https://www.pne.ca/event/ammy-virk/
LOCATION:Pacific Coliseum\, 100 N Renfrew St\, Vancouver\, BC\, V5K 4W3\, Canada
CATEGORIES:Concerts and Events
ATTACH;FMTTYPE=image/jpeg:https://www.pne.ca/files/uploads/2026/02/1080x1080.jpg
GEO:49.2825297;-123.0425183
X-APPLE-STRUCTURED-LOCATION;VALUE=URI;X-ADDRESS=Pacific Coliseum 100 N Renfrew St Vancouver BC V5K 4W3 Canada;X-APPLE-RADIUS=500;X-TITLE=100 N Renfrew St:geo:-123.0425183,49.2825297
END:VEVENT
BEGIN:VEVENT
DTSTART;TZID=America/Vancouver:20260815T190000
DTEND;TZID=America/Vancouver:20260815T190000
DTSTAMP:20260422T195421
CREATED:20260217T172752Z
LAST-MODIFIED:20260401T174903Z
UID:10011232-1786820400-1786820400@www.pne.ca
SUMMARY:SHINEDOWN - DANCE\, KID\, DANCE ACT II
DESCRIPTION:Shinedown is a multi‑platinum rock band from Jacksonville\, Florida\, known for their powerful vocals\, hard‑hitting sound\, and emotionally driven lyrics. Formed in 2001 by frontman Brent Smith\, the band has released seven studio albums spanning hard rock\, alternative metal\, and post‑grunge. \nWith a record‑breaking 21 number‑one singles on the Billboard Mainstream Rock chart and over 10 million albums sold worldwide\, Shinedown has become one of the most successful rock bands of the modern era. Their high‑energy live shows and anthems like Second Chance and The Sound of Madness have earned them a dedicated global fanbase.
URL:https://www.pne.ca/event/shinedown-dance-kid-dance-act-ii/
LOCATION:Pacific Coliseum\, 100 N Renfrew St\, Vancouver\, BC\, V5K 4W3\, Canada
CATEGORIES:Concerts and Events
ATTACH;FMTTYPE=image/jpeg:https://www.pne.ca/files/uploads/2026/02/Shine-Down_1084x1084.jpg
GEO:49.2825297;-123.0425183
X-APPLE-STRUCTURED-LOCATION;VALUE=URI;X-ADDRESS=Pacific Coliseum 100 N Renfrew St Vancouver BC V5K 4W3 Canada;X-APPLE-RADIUS=500;X-TITLE=100 N Renfrew St:geo:-123.0425183,49.2825297
END:VEVENT
BEGIN:VEVENT
DTSTART;TZID=America/Vancouver:20260919T200000
DTEND;TZID=America/Vancouver:20260919T200000
DTSTAMP:20260422T195421
CREATED:20260401T170020Z
LAST-MODIFIED:20260401T175551Z
UID:10011322-1789848000-1789848000@www.pne.ca
SUMMARY:Johnny Blue Skies & the Dark Clouds - Mutiny for the Masses 2026 Tour
DESCRIPTION:The last time Johnny Blue Skies & the Dark Clouds hit the road\, they delivered an “intensely physical marathon performance that created a can’t-miss musical happening” (GQ)\, and the question was asked: are they “the greatest live act in music right now?” With longer sets and greasier grooves\, Johnny Blue Skies & the Dark Clouds will once again answer. No opening acts\, just the band rocking as hard and relentlessly as possible for every minute possible.  \nMutiny After Midnight is out now on vinyl\, CD and cassette via High Top Mountain/Atlantic Outpost. It is also available as a digital download – exclusively on iTunes in a “full album for purchase only” format – with an expanded track list featuring Johnny Blue Skies & the Dark Clouds’ take on Eddie Murphy’s “Party All The Time.”
URL:https://www.pne.ca/event/johnny-blue-skies-the-dark-clouds-mutiny-for-the-masses-2026-tour/
LOCATION:Pacific Coliseum\, 100 N Renfrew St\, Vancouver\, BC\, V5K 4W3\, Canada
CATEGORIES:Concerts and Events
ATTACH;FMTTYPE=image/jpeg:https://www.pne.ca/files/uploads/2026/04/2026_JohnnyBlueSkies_Venue-Digital-Web_1084x1084_PacificColiseum_0919.jpg
GEO:49.2825297;-123.0425183
X-APPLE-STRUCTURED-LOCATION;VALUE=URI;X-ADDRESS=Pacific Coliseum 100 N Renfrew St Vancouver BC V5K 4W3 Canada;X-APPLE-RADIUS=500;X-TITLE=100 N Renfrew St:geo:-123.0425183,49.2825297
END:VEVENT
BEGIN:VEVENT
DTSTART;TZID=America/Vancouver:20261002T200000
DTEND;TZID=America/Vancouver:20261002T200000
DTSTAMP:20260422T195421
CREATED:20260324T183003Z
LAST-MODIFIED:20260401T175149Z
UID:10011304-1790971200-1790971200@www.pne.ca
SUMMARY:JUNGLE – World Tour 2026
DESCRIPTION:** Tickets are valid only for the original purchaser and are non-transferable **\nThis concert is a Face Value Exchange Tour \n  \nSunshine\, the new album from much-lauded British band Jungle\, is set for release on August 14. In support of the album\, Jungle will embark on a global headline tour with stops across North America\, the U.K. and Europe this fall. \nThis release follows the band’s critically acclaimed 2023 LP Volcano\, called “unstoppable” and a “timeless classic” by NPR. Volcano saw the band receive widespread praise and tour the world in its wake\, as well as the runaway success of Platinum single “Back On 74\,” which took the world by storm upon release. \nJungle\, whose live performances were praised as a “perfect…come-as-you-are party” by Variety\, will look to bring their signature show to an ever-wider audience\, having played for over 190\,000 people on their previous global tour in 2023 and 2024. \nJungle was founded by Josh Lloyd-Watson and Tom McFarland\, who met at the age of 10 in West London’s Shepherd’s Bush. They began making music together at the beginning of 2013\, choosing to put the aesthetic emphasis on the music’s surrounding artwork and videos rather than on their own identities. The production and songwriting duo has since expanded\, welcoming vocalist and producer Lydia Kitto to the group as a permanent member in 2023. \nSupport:  \nRIO KOSTA
URL:https://www.pne.ca/event/jungle-world-tour-2026/
LOCATION:Pacific Coliseum\, 100 N Renfrew St\, Vancouver\, BC\, V5K 4W3\, Canada
CATEGORIES:Concerts and Events
ATTACH;FMTTYPE=image/jpeg:https://www.pne.ca/files/uploads/2026/03/1002-Vancouver-Jungle-1084x1084-1.jpg
GEO:49.2825297;-123.0425183
X-APPLE-STRUCTURED-LOCATION;VALUE=URI;X-ADDRESS=Pacific Coliseum 100 N Renfrew St Vancouver BC V5K 4W3 Canada;X-APPLE-RADIUS=500;X-TITLE=100 N Renfrew St:geo:-123.0425183,49.2825297
END:VEVENT
END:VCALENDAR