BEGIN:VCALENDAR
VERSION:2.0
PRODID:-//PNE - ECPv6.13.2.1//NONSGML v1.0//EN
CALSCALE:GREGORIAN
METHOD:PUBLISH
X-WR-CALNAME:PNE
X-ORIGINAL-URL:https://www.pne.ca
X-WR-CALDESC:Events for PNE
REFRESH-INTERVAL;VALUE=DURATION:PT1H
X-Robots-Tag:noindex
X-PUBLISHED-TTL:PT1H
BEGIN:VTIMEZONE
TZID:America/Vancouver
BEGIN:DAYLIGHT
TZOFFSETFROM:-0800
TZOFFSETTO:-0700
TZNAME:PDT
DTSTART:20230312T100000
END:DAYLIGHT
BEGIN:STANDARD
TZOFFSETFROM:-0700
TZOFFSETTO:-0800
TZNAME:PST
DTSTART:20231105T090000
END:STANDARD
END:VTIMEZONE
BEGIN:VEVENT
DTSTART;TZID=America/Vancouver:20231101T200000
DTEND;TZID=America/Vancouver:20231101T200000
DTSTAMP:20260425T102913
CREATED:20230627T130004Z
LAST-MODIFIED:20231024T235253Z
UID:10009090-1698868800-1698868800@www.pne.ca
SUMMARY:Eric Nam with Support from Jamie Miller #HouseOnAHillTour
DESCRIPTION:This event has moved to the Vogue Theatre. \nThis is an ALL AGES Event \nNo refunds or exchanges.
URL:https://www.pne.ca/event/eric-nam/
LOCATION:Vogue Theatre\, 918 Granville St\, Vancouver\, BC\, V6Z 1L2\, Canada
CATEGORIES:Concerts and Events
ATTACH;FMTTYPE=image/jpeg:https://www.pne.ca/files/uploads/2023/06/IG-SQUARE-1.jpg
GEO:49.2826882;-123.0363465
X-APPLE-STRUCTURED-LOCATION;VALUE=URI;X-ADDRESS=Vogue Theatre 918 Granville St Vancouver BC V6Z 1L2 Canada;X-APPLE-RADIUS=500;X-TITLE=918 Granville St:geo:-123.0363465,49.2826882
END:VEVENT
BEGIN:VEVENT
DTSTART;TZID=America/Vancouver:20231010T200000
DTEND;TZID=America/Vancouver:20231010T200000
DTSTAMP:20260425T102913
CREATED:20230724T170057Z
LAST-MODIFIED:20230804T230413Z
UID:10009189-1696968000-1696968000@www.pne.ca
SUMMARY:The Rose: Dawn To Dusk World Tour
DESCRIPTION:  \nThe Rose is a Korean indie rock band comprised of four talented members: vocalist and guitarist Woosung\, vocalist/multi-instrumentalist Dojoon\, bassist Jaehyeong\, and drummer Hajoon. Renowned since their inception for electrifying performances\, The Rose quickly became one of Korea’s most sought-after groups delivering a series of critically acclaimed albums that resonated with fans worldwide. In 2019\, three of the band members temporarily went on hiatus to fulfill their mandatory military service obligations\, during which Woosung pursued a successful solo career\, releasing captivating albums and embarking on sold-out world tours. \nIn a moment of sheer joy for their devoted fans\, The Rose reunited during one of Woosung’s performances in South Korea in 2022. This reunion paved the way for their first full-length album\, “HEAL\,” which was inspired by the transformative power of music and the stories shared by both their fans and themselves. “HEAL” soared to #4 on Billboard’s Heatseekers Chart\, while their accompanying “HEAL Together World Tour” drew an overwhelming crowd of over 90\,000 attendees. \nNow\, with their highly anticipated second full-length album\, “DUAL\,” The Rose takes their music to new heights. Building upon the emotional honesty and vulnerability showcased in “HEAL\,” this latest offering explores the profound concept of ‘balance.’ Seamlessly merging light and dark elements\, The Rose masterfully weaves emotions and sounds\, capturing the dualistic essence that defines their music.  \nDriven by unwavering dedication to their fans and the unbreakable bond of their friendship\, The Rose continues to push artistic boundaries\, captivating audiences worldwide with their soul-stirring music and unforgettable performances. \n 
URL:https://www.pne.ca/event/the-rose-dawn-to-dusk-world-tour/
LOCATION:Vogue Theatre\, 918 Granville St\, Vancouver\, BC\, V6Z 1L2\, Canada
ATTACH;FMTTYPE=image/png:https://www.pne.ca/files/uploads/2023/07/1920x1080.png
GEO:49.2826882;-123.0363465
X-APPLE-STRUCTURED-LOCATION;VALUE=URI;X-ADDRESS=Vogue Theatre 918 Granville St Vancouver BC V6Z 1L2 Canada;X-APPLE-RADIUS=500;X-TITLE=918 Granville St:geo:-123.0363465,49.2826882
END:VEVENT
BEGIN:VEVENT
DTSTART;TZID=America/Vancouver:20230610T110000
DTEND;TZID=America/Vancouver:20230610T170000
DTSTAMP:20260425T102913
CREATED:20230606T202308Z
LAST-MODIFIED:20230606T202308Z
UID:10009039-1686394800-1686416400@www.pne.ca
SUMMARY:June Golf Tournament
DESCRIPTION:Join us for our exciting yearly mini golf tournament on June 10th at Playland! Get your game on and get the lowest score for a chance to win a $200 PNE gift card.
URL:https://www.pne.ca/event/june-golf-tournament/
LOCATION:Vogue Theatre\, 918 Granville St\, Vancouver\, BC\, V6Z 1L2\, Canada
CATEGORIES:Playland Promo Events
GEO:49.2826882;-123.0363465
X-APPLE-STRUCTURED-LOCATION;VALUE=URI;X-ADDRESS=Vogue Theatre 918 Granville St Vancouver BC V6Z 1L2 Canada;X-APPLE-RADIUS=500;X-TITLE=918 Granville St:geo:-123.0363465,49.2826882
END:VEVENT
BEGIN:VEVENT
DTSTART;TZID=America/Vancouver:20230510T080000
DTEND;TZID=America/Vancouver:20230510T170000
DTSTAMP:20260425T102913
CREATED:20230510T172026Z
LAST-MODIFIED:20230510T183050Z
UID:10008995-1683705600-1683738000@www.pne.ca
SUMMARY:Testing Password Event
DESCRIPTION:Content is protected.
URL:https://www.pne.ca/event/testing-password-event/
LOCATION:Vogue Theatre\, 918 Granville St\, Vancouver\, BC\, V6Z 1L2\, Canada
GEO:49.2826882;-123.0363465
X-APPLE-STRUCTURED-LOCATION;VALUE=URI;X-ADDRESS=Vogue Theatre 918 Granville St Vancouver BC V6Z 1L2 Canada;X-APPLE-RADIUS=500;X-TITLE=918 Granville St:geo:-123.0363465,49.2826882
END:VEVENT
END:VCALENDAR